Workbook

Sheet 向量
B1: a | C1: o | D1: e | E1: i | F1: u | G1: v | H1: n | I1: g | J1: r | K1: b | L1: c | M1: d | N1: f | O1: h | P1: j | Q1: k | R1: l | S1: m | T1: p | U1: q | V1: s | W1: t | X1: w | Y1: x | Z1: y | AA1: z | AB1: =SUM(AB2:AB27) -> 9426 | AC1: =AVERAGE(AC2:AC27) -> 13.943787
A2: a | B2: 13 | C2: 11 | D2: 15 | E2: 11 | F2: 12 | G2: 15 | H2: 11 | I2: 15 | J2: 17 | K2: 18 | L2: 17 | M2: 15 | N2: 15 | O2: 11 | P2: 11 | Q2: 10 | R2: 10 | S2: 11 | T2: 12 | U2: 19 | V2: 16 | W2: 15 | X2: 18 | Y2: 19 | Z2: 12 | AA2: 19 | AB2: =SUM(B2:AA2) -> 368 | AC2: =AB2/26 -> 14.153846
A3: o | B3: 11 | C3: 14 | D3: 11 | E3: 15 | F3: 13 | G3: 13 | H3: 15 | I3: 11 | J3: 12 | K3: 11 | L3: 12 | M3: 11 | N3: 11 | O3: 14 | P3: 15 | Q3: 18 | R3: 17 | S3: 17 | T3: 15 | U3: 13 | V3: 11 | W3: 11 | X3: 11 | Y3: 12 | Z3: 15 | AA3: 13 | AB3: =SUM(B3:AA3) -> 342 | AC3: =AB3/26 -> 13.153846
A4: e | B4: 15 | C4: 10 | D4: 13 | E4: 11 | F4: 11 | G4: 17 | H4: 11 | I4: 16 | J4: 13 | K4: 18 | L4: 19 | M4: 18 | N4: 15 | O4: 11 | P4: 10 | Q4: 10 | R4: 11 | S4: 11 | T4: 12 | U4: 14 | V4: 17 | W4: 16 | X4: 14 | Y4: 20 | Z4: 12 | AA4: 18 | AB4: =SUM(B4:AA4) -> 363 | AC4: =AB4/26 -> 13.961538
A5: i | B5: 12 | C5: 14 | D5: 11 | E5: 13 | F5: 14 | G5: 12 | H5: 15 | I5: 12 | J5: 11 | K5: 12 | L5: 12 | M5: 11 | N5: 11 | O5: 17 | P5: 15 | Q5: 16 | R5: 16 | S5: 17 | T5: 15 | U5: 12 | V5: 11 | W5: 11 | X5: 11 | Y5: 12 | Z5: 16 | AA5: 13 | AB5: =SUM(B5:AA5) -> 342 | AC5: =AB5/26 -> 13.153846
A6: u | B6: 11 | C6: 14 | D6: 11 | E6: 14 | F6: 13 | G6: 12 | H6: 17 | I6: 11 | J6: 11 | K6: 11 | L6: 11 | M6: 11 | N6: 11 | O6: 16 | P6: 16 | Q6: 17 | R6: 16 | S6: 18 | T6: 13 | U6: 11 | V6: 12 | W6: 13 | X6: 12 | Y6: 12 | Z6: 15 | AA6: 13 | AB6: =SUM(B6:AA6) -> 342 | AC6: =AB6/26 -> 13.153846
A7: v | B7: 15 | C7: 12 | D7: 16 | E7: 11 | F7: 14 | G7: 13 | H7: 12 | I7: 18 | J7: 19 | K7: 18 | L7: 16 | M7: 16 | N7: 17 | O7: 11 | P7: 11 | Q7: 11 | R7: 12 | S7: 11 | T7: 13 | U7: 17 | V7: 15 | W7: 19 | X7: 15 | Y7: 15 | Z7: 13 | AA7: 14 | AB7: =SUM(B7:AA7) -> 374 | AC7: =AB7/26 -> 14.384615
A8: n | B8: 12 | C8: 15 | D8: 11 | E8: 15 | F8: 17 | G8: 12 | H8: 13 | I8: 12 | J8: 11 | K8: 12 | L8: 12 | M8: 11 | N8: 12 | O8: 17 | P8: 16 | Q8: 16 | R8: 15 | S8: 17 | T8: 16 | U8: 13 | V8: 12 | W8: 11 | X8: 11 | Y8: 13 | Z8: 18 | AA8: 13 | AB8: =SUM(B8:AA8) -> 353 | AC8: =AB8/26 -> 13.576923
A9: g | B9: 14 | C9: 11 | D9: 14 | E9: 11 | F9: 11 | G9: 18 | H9: 11 | I9: 13 | J9: 18 | K9: 18 | L9: 18 | M9: 15 | N9: 16 | O9: 12 | P9: 11 | Q9: 11 | R9: 11 | S9: 11 | T9: 11 | U9: 14 | V9: 15 | W9: 17 | X9: 15 | Y9: 17 | Z9: 11 | AA9: 16 | AB9: =SUM(B9:AA9) -> 360 | AC9: =AB9/26 -> 13.846154
A10: r | B10: 15 | C10: 12 | D10: 14 | E10: 11 | F10: 11 | G10: 19 | H10: 11 | I10: 17 | J10: 13 | K10: 19 | L10: 20 | M10: 17 | N10: 17 | O10: 11 | P10: 11 | Q10: 12 | R10: 11 | S10: 12 | T10: 12 | U10: 15 | V10: 17 | W10: 17 | X10: 15 | Y10: 20 | Z10: 12 | AA10: 20 | AB10: =SUM(B10:AA10) -> 381 | AC10: =AB10/26 -> 14.653846
A11: b | B11: 16 | C11: 11 | D11: 17 | E11: 11 | F11: 12 | G11: 18 | H11: 11 | I11: 18 | J11: 19 | K11: 13 | L11: 17 | M11: 16 | N11: 19 | O11: 12 | P11: 12 | Q11: 12 | R11: 11 | S11: 11 | T11: 11 | U11: 18 | V11: 17 | W11: 19 | X11: 18 | Y11: 17 | Z11: 13 | AA11: 16 | AB11: =SUM(B11:AA11) -> 385 | AC11: =AB11/26 -> 14.807692
A12: c | B12: 16 | C12: 11 | D12: 18 | E12: 11 | F12: 11 | G12: 15 | H12: 10 | I12: 17 | J12: 19 | K12: 16 | L12: 13 | M12: 17 | N12: 17 | O12: 11 | P12: 11 | Q12: 10 | R12: 10 | S12: 11 | T12: 11 | U12: 18 | V12: 16 | W12: 19 | X12: 18 | Y12: 16 | Z12: 12 | AA12: 14 | AB12: =SUM(B12:AA12) -> 368 | AC12: =AB12/26 -> 14.153846
A13: d | B13: 14 | C13: 11 | D13: 16 | E13: 10 | F13: 11 | G13: 16 | H13: 11 | I13: 15 | J13: 17 | K13: 17 | L13: 19 | M13: 13 | N13: 15 | O13: 11 | P13: 11 | Q13: 11 | R13: 11 | S13: 11 | T13: 11 | U13: 16 | V13: 14 | W13: 17 | X13: 16 | Y13: 17 | Z13: 12 | AA13: 15 | AB13: =SUM(B13:AA13) -> 358 | AC13: =AB13/26 -> 13.769231
... A27: z | B27: 18 | C27: 12 | D27: 18 | E27: 11 | F27: 12 | G27: 15 | H27: 11 | I27: 17 | J27: 18 | K27: 15 | L27: 16 | M27: 17 | N27: 17 | O27: 10 | P27: 10 | Q27: 11 | R27: 11 | S27: 10 | T27: 11 | U27: 21 | V27: 19 | W27: 17 | X27: 21 | Y27: 15 | Z27: 14 | AA27: 13 | AB27: =SUM(B27:AA27) -> 380 | AC27: =AB27/26 -> 14.615385
A28: =SUM(B28:AA28) -> 9426 | B28: =SUM(B2:B27) -> 362 | C28: =SUM(C2:C27) -> 336 | D28: =SUM(D2:D27) -> 355 | E28: =SUM(E2:E27) -> 327 | F28: =SUM(F2:F27) -> 343 | G28: =SUM(G2:G27) -> 387 | H28: =SUM(H2:H27) -> 341 | I28: =SUM(I2:I27) -> 375 | ... AA28: =SUM(AA2:AA27) -> 396
A29: =AVERAGE(B29:AA29) -> 13.943787 | B29: =B28/26 -> 13.923077 | C29: =C28/26 -> 12.923077 | D29: =D28/26 -> 13.653846 | E29: =E28/26 -> 12.576923 | F29: =F28/26 -> 13.192308 | G29: =G28/26 -> 14.884615 | H29: =H28/26 -> 13.115385 | I29: =I28/26 -> 14.423077 | ... AA29: =AA28/26 -> 15.230769

Sheet 同向
B1: a | C1: o | D1: e | E1: i | F1: u | G1: v | H1: n | I1: g | J1: r | K1: b | L1: c | M1: d | N1: f | O1: h | P1: j | Q1: k | R1: l | S1: m | T1: p | U1: q | V1: s | W1: t | X1: w | Y1: x | Z1: y | AA1: z
A2: a | B2: 13 | C2: =向量!C2-向量!$AC2 -> -3.1538462 | D2: =向量!D2-向量!$AC2 -> 0.84615385 | E2: =向量!E2-向量!$AC2 -> -3.1538462 | F2: =向量!F2-向量!$AC2 -> -2.1538462 | G2: =向量!G2-向量!$AC2 -> 0.84615385 | H2: =向量!H2-向量!$AC2 -> -3.1538462 | I2: =向量!I2-向量!$AC2 -> 0.84615385 | J2: =向量!J2-向量!$AC2 -> 2.8461538 | ... AA2: =向量!AA2-向量!$AC2 -> 4.8461538
A3: o | B3: =向量!B3-向量!B$29 -> -2.9230769 | C3: 14 | D3: =向量!D3-向量!$AC3 -> -2.1538462 | E3: =向量!E3-向量!$AC3 -> 1.8461538 | F3: =向量!F3-向量!$AC3 -> -0.15384615 | G3: =向量!G3-向量!$AC3 -> -0.15384615 | H3: =向量!H3-向量!$AC3 -> 1.8461538 | I3: =向量!I3-向量!$AC3 -> -2.1538462 | J3: =向量!J3-向量!$AC3 -> -1.1538462 | K3: =向量!K3-向量!$AC3 -> -2.1538462 | ... AA3: =向量!AA3-向量!$AC3 -> -0.15384615
A4: e | B4: =向量!B4-向量!B$29 -> 1.0769231 | C4: =向量!C4-向量!C$29 -> -2.9230769 | D4: 13 | E4: =向量!E4-向量!$AC4 -> -2.9615385 | F4: =向量!F4-向量!$AC4 -> -2.9615385 | G4: =向量!G4-向量!$AC4 -> 3.0384615 | H4: =向量!H4-向量!$AC4 -> -2.9615385 | I4: =向量!I4-向量!$AC4 -> 2.0384615 | J4: =向量!J4-向量!$AC4 -> -0.96153846 | K4: =向量!K4-向量!$AC4 -> 4.0384615 | L4: =向量!L4-向量!$AC4 -> 5.0384615 | ... AA4: =向量!AA4-向量!$AC4 -> 4.0384615
A5: i | B5: =向量!B5-向量!B$29 -> -1.9230769 | C5: =向量!C5-向量!C$29 -> 1.0769231 | D5: =向量!D5-向量!D$29 -> -2.6538462 | E5: 13 | F5: =向量!F5-向量!$AC5 -> 0.84615385 | G5: =向量!G5-向量!$AC5 -> -1.1538462 | H5: =向量!H5-向量!$AC5 -> 1.8461538 | I5: =向量!I5-向量!$AC5 -> -1.1538462 | J5: =向量!J5-向量!$AC5 -> -2.1538462 | K5: =向量!K5-向量!$AC5 -> -1.1538462 | L5: =向量!L5-向量!$AC5 -> -1.1538462 | M5: =向量!M5-向量!$AC5 -> -2.1538462 | ... AA5: =向量!AA5-向量!$AC5 -> -0.15384615
A6: u | B6: =向量!B6-向量!B$29 -> -2.9230769 | C6: =向量!C6-向量!C$29 -> 1.0769231 | D6: =向量!D6-向量!D$29 -> -2.6538462 | E6: =向量!E6-向量!E$29 -> 1.4230769 | F6: 13 | G6: =向量!G6-向量!$AC6 -> -1.1538462 | H6: =向量!H6-向量!$AC6 -> 3.8461538 | I6: =向量!I6-向量!$AC6 -> -2.1538462 | J6: =向量!J6-向量!$AC6 -> -2.1538462 | K6: =向量!K6-向量!$AC6 -> -2.1538462 | L6: =向量!L6-向量!$AC6 -> -2.1538462 | M6: =向量!M6-向量!$AC6 -> -2.1538462 | N6: =向量!N6-向量!$AC6 -> -2.1538462 | ... AA6: =向量!AA6-向量!$AC6 -> -0.15384615
A7: v | B7: =向量!B7-向量!B$29 -> 1.0769231 | C7: =向量!C7-向量!C$29 -> -0.92307692 | D7: =向量!D7-向量!D$29 -> 2.3461538 | E7: =向量!E7-向量!E$29 -> -1.5769231 | F7: =向量!F7-向量!F$29 -> 0.80769231 | G7: 13 | H7: =向量!H7-向量!$AC7 -> -2.3846154 | I7: =向量!I7-向量!$AC7 -> 3.6153846 | J7: =向量!J7-向量!$AC7 -> 4.6153846 | K7: =向量!K7-向量!$AC7 -> 3.6153846 | L7: =向量!L7-向量!$AC7 -> 1.6153846 | M7: =向量!M7-向量!$AC7 -> 1.6153846 | N7: =向量!N7-向量!$AC7 -> 2.6153846 | O7: =向量!O7-向量!$AC7 -> -3.3846154 | ... AA7: =向量!AA7-向量!$AC7 -> -0.38461538
A8: n | B8: =向量!B8-向量!B$29 -> -1.9230769 | C8: =向量!C8-向量!C$29 -> 2.0769231 | D8: =向量!D8-向量!D$29 -> -2.6538462 | E8: =向量!E8-向量!E$29 -> 2.4230769 | F8: =向量!F8-向量!F$29 -> 3.8076923 | G8: =向量!G8-向量!G$29 -> -2.8846154 | H8: 13 | I8: =向量!I8-向量!$AC8 -> -1.5769231 | J8: =向量!J8-向量!$AC8 -> -2.5769231 | K8: =向量!K8-向量!$AC8 -> -1.5769231 | L8: =向量!L8-向量!$AC8 -> -1.5769231 | M8: =向量!M8-向量!$AC8 -> -2.5769231 | N8: =向量!N8-向量!$AC8 -> -1.5769231 | O8: =向量!O8-向量!$AC8 -> 3.4230769 | P8: =向量!P8-向量!$AC8 -> 2.4230769 | ... AA8: =向量!AA8-向量!$AC8 -> -0.57692308
A9: g | B9: =向量!B9-向量!B$29 -> 0.076923077 | C9: =向量!C9-向量!C$29 -> -1.9230769 | D9: =向量!D9-向量!D$29 -> 0.34615385 | E9: =向量!E9-向量!E$29 -> -1.5769231 | F9: =向量!F9-向量!F$29 -> -2.1923077 | G9: =向量!G9-向量!G$29 -> 3.1153846 | H9: =向量!H9-向量!H$29 -> -2.1153846 | I9: 13 | J9: =向量!J9-向量!$AC9 -> 4.1538462 | K9: =向量!K9-向量!$AC9 -> 4.1538462 | L9: =向量!L9-向量!$AC9 -> 4.1538462 | M9: =向量!M9-向量!$AC9 -> 1.1538462 | N9: =向量!N9-向量!$AC9 -> 2.1538462 | O9: =向量!O9-向量!$AC9 -> -1.8461538 | P9: =向量!P9-向量!$AC9 -> -2.8461538 | Q9: =向量!Q9-向量!$AC9 -> -2.8461538 | ... AA9: =向量!AA9-向量!$AC9 -> 2.1538462
A10: r | B10: =向量!B10-向量!B$29 -> 1.0769231 | C10: =向量!C10-向量!C$29 -> -0.92307692 | D10: =向量!D10-向量!D$29 -> 0.34615385 | E10: =向量!E10-向量!E$29 -> -1.5769231 | F10: =向量!F10-向量!F$29 -> -2.1923077 | G10: =向量!G10-向量!G$29 -> 4.1153846 | H10: =向量!H10-向量!H$29 -> -2.1153846 | I10: =向量!I10-向量!I$29 -> 2.5769231 | J10: 13 | K10: =向量!K10-向量!$AC10 -> 4.3461538 | L10: =向量!L10-向量!$AC10 -> 5.3461538 | M10: =向量!M10-向量!$AC10 -> 2.3461538 | N10: =向量!N10-向量!$AC10 -> 2.3461538 | O10: =向量!O10-向量!$AC10 -> -3.6538462 | P10: =向量!P10-向量!$AC10 -> -3.6538462 | Q10: =向量!Q10-向量!$AC10 -> -2.6538462 | R10: =向量!R10-向量!$AC10 -> -3.6538462 | ... AA10: =向量!AA10-向量!$AC10 -> 5.3461538
A11: b | B11: =向量!B11-向量!B$29 -> 2.0769231 | C11: =向量!C11-向量!C$29 -> -1.9230769 | D11: =向量!D11-向量!D$29 -> 3.3461538 | E11: =向量!E11-向量!E$29 -> -1.5769231 | F11: =向量!F11-向量!F$29 -> -1.1923077 | G11: =向量!G11-向量!G$29 -> 3.1153846 | H11: =向量!H11-向量!H$29 -> -2.1153846 | I11: =向量!I11-向量!I$29 -> 3.5769231 | J11: =向量!J11-向量!J$29 -> 4.6538462 | K11: 13 | L11: =向量!L11-向量!$AC11 -> 2.1923077 | M11: =向量!M11-向量!$AC11 -> 1.1923077 | N11: =向量!N11-向量!$AC11 -> 4.1923077 | O11: =向量!O11-向量!$AC11 -> -2.8076923 | P11: =向量!P11-向量!$AC11 -> -2.8076923 | Q11: =向量!Q11-向量!$AC11 -> -2.8076923 | R11: =向量!R11-向量!$AC11 -> -3.8076923 | S11: =向量!S11-向量!$AC11 -> -3.8076923 | ... AA11: =向量!AA11-向量!$AC11 -> 1.1923077
A12: c | B12: =向量!B12-向量!B$29 -> 2.0769231 | C12: =向量!C12-向量!C$29 -> -1.9230769 | D12: =向量!D12-向量!D$29 -> 4.3461538 | E12: =向量!E12-向量!E$29 -> -1.5769231 | F12: =向量!F12-向量!F$29 -> -2.1923077 | G12: =向量!G12-向量!G$29 -> 0.11538462 | H12: =向量!H12-向量!H$29 -> -3.1153846 | I12: =向量!I12-向量!I$29 -> 2.5769231 | ... K12: =向量!K12-向量!K$29 -> 1.1923077 | L12: 13 | M12: =向量!M12-向量!$AC12 -> 2.8461538 | N12: =向量!N12-向量!$AC12 -> 2.8461538 | O12: =向量!O12-向量!$AC12 -> -3.1538462 | P12: =向量!P12-向量!$AC12 -> -3.1538462 | Q12: =向量!Q12-向量!$AC12 -> -4.1538462 | R12: =向量!R12-向量!$AC12 -> -4.1538462 | S12: =向量!S12-向量!$AC12 -> -3.1538462 | T12: =向量!T12-向量!$AC12 -> -3.1538462 | ... AA12: =向量!AA12-向量!$AC12 -> -0.15384615
A13: d | B13: =向量!B13-向量!B$29 -> 0.076923077 | C13: =向量!C13-向量!C$29 -> -1.9230769 | D13: =向量!D13-向量!D$29 -> 2.3461538 | E13: =向量!E13-向量!E$29 -> -2.5769231 | F13: =向量!F13-向量!F$29 -> -2.1923077 | G13: =向量!G13-向量!G$29 -> 1.1153846 | H13: =向量!H13-向量!H$29 -> -2.1153846 | I13: =向量!I13-向量!I$29 -> 0.57692308 | ... L13: =向量!L13-向量!L$29 -> 3.7692308 | M13: 13 | N13: =向量!N13-向量!$AC13 -> 1.2307692 | O13: =向量!O13-向量!$AC13 -> -2.7692308 | P13: =向量!P13-向量!$AC13 -> -2.7692308 | Q13: =向量!Q13-向量!$AC13 -> -2.7692308 | R13: =向量!R13-向量!$AC13 -> -2.7692308 | S13: =向量!S13-向量!$AC13 -> -2.7692308 | T13: =向量!T13-向量!$AC13 -> -2.7692308 | U13: =向量!U13-向量!$AC13 -> 2.2307692 | ... AA13: =向量!AA13-向量!$AC13 -> 1.2307692
A14: f | B14: =向量!B14-向量!B$29 -> -0.92307692 | C14: =向量!C14-向量!C$29 -> -1.9230769 | D14: =向量!D14-向量!D$29 -> 0.34615385 | E14: =向量!E14-向量!E$29 -> -0.57692308 | F14: =向量!F14-向量!F$29 -> -1.1923077 | G14: =向量!G14-向量!G$29 -> 3.1153846 | H14: =向量!H14-向量!H$29 -> -2.1153846 | I14: =向量!I14-向量!I$29 -> 3.5769231 | ... M14: =向量!M14-向量!M$29 -> 0.96153846 | N14: 13 | O14: =向量!O14-向量!$AC14 -> -2.9615385 | P14: =向量!P14-向量!$AC14 -> -2.9615385 | Q14: =向量!Q14-向量!$AC14 -> -2.9615385 | R14: =向量!R14-向量!$AC14 -> -2.9615385 | S14: =向量!S14-向量!$AC14 -> -1.9615385 | T14: =向量!T14-向量!$AC14 -> -2.9615385 | U14: =向量!U14-向量!$AC14 -> 1.0384615 | V14: =向量!V14-向量!$AC14 -> 1.0384615 | ... AA14: =向量!AA14-向量!$AC14 -> 2.0384615
A15: h | B15: =向量!B15-向量!B$29 -> -1.9230769 | C15: =向量!C15-向量!C$29 -> 1.0769231 | D15: =向量!D15-向量!D$29 -> -2.6538462 | E15: =向量!E15-向量!E$29 -> 0.42307692 | F15: =向量!F15-向量!F$29 -> 1.8076923 | G15: =向量!G15-向量!G$29 -> -2.8846154 | H15: =向量!H15-向量!H$29 -> 2.8846154 | I15: =向量!I15-向量!I$29 -> 0.57692308 | ... N15: =向量!N15-向量!N$29 -> -2.1153846 | O15: 13 | P15: =向量!P15-向量!$AC15 -> 2.9230769 | Q15: =向量!Q15-向量!$AC15 -> 1.9230769 | R15: =向量!R15-向量!$AC15 -> 0.92307692 | S15: =向量!S15-向量!$AC15 -> 4.9230769 | T15: =向量!T15-向量!$AC15 -> 0.92307692 | U15: =向量!U15-向量!$AC15 -> -1.0769231 | V15: =向量!V15-向量!$AC15 -> -2.0769231 | W15: =向量!W15-向量!$AC15 -> -2.0769231 | ... AA15: =向量!AA15-向量!$AC15 -> -1.0769231
A16: j | B16: =向量!B16-向量!B$29 -> -2.9230769 | C16: =向量!C16-向量!C$29 -> 2.0769231 | D16: =向量!D16-向量!D$29 -> -2.6538462 | E16: =向量!E16-向量!E$29 -> 2.4230769 | F16: =向量!F16-向量!F$29 -> 2.8076923 | G16: =向量!G16-向量!G$29 -> -2.8846154 | H16: =向量!H16-向量!H$29 -> 2.8846154 | I16: =向量!I16-向量!I$29 -> -2.4230769 | ... O16: =向量!O16-向量!O$29 -> 2.8461538 | P16: 13 | Q16: =向量!Q16-向量!$AC16 -> -0.23076923 | R16: =向量!R16-向量!$AC16 -> 0.76923077 | S16: =向量!S16-向量!$AC16 -> 4.7692308 | T16: =向量!T16-向量!$AC16 -> 0.76923077 | U16: =向量!U16-向量!$AC16 -> -0.23076923 | V16: =向量!V16-向量!$AC16 -> -1.2307692 | W16: =向量!W16-向量!$AC16 -> -2.2307692 | X16: =向量!X16-向量!$AC16 -> -1.2307692 | ... AA16: =向量!AA16-向量!$AC16 -> -0.23076923
A17: k | B17: =向量!B17-向量!B$29 -> -1.9230769 | C17: =向量!C17-向量!C$29 -> 3.0769231 | D17: =向量!D17-向量!D$29 -> -2.6538462 | E17: =向量!E17-向量!E$29 -> 3.4230769 | F17: =向量!F17-向量!F$29 -> 2.8076923 | G17: =向量!G17-向量!G$29 -> -2.8846154 | H17: =向量!H17-向量!H$29 -> 2.8846154 | I17: =向量!I17-向量!I$29 -> -2.4230769 | ... P17: =向量!P17-向量!P$29 -> 2.1153846 | Q17: 13 | R17: =向量!R17-向量!$AC17 -> -0.34615385 | S17: =向量!S17-向量!$AC17 -> 2.6538462 | T17: =向量!T17-向量!$AC17 -> 4.6538462 | U17: =向量!U17-向量!$AC17 -> -1.3461538 | V17: =向量!V17-向量!$AC17 -> -2.3461538 | W17: =向量!W17-向量!$AC17 -> -2.3461538 | X17: =向量!X17-向量!$AC17 -> -2.3461538 | Y17: =向量!Y17-向量!$AC17 -> -0.34615385 | ... AA17: =向量!AA17-向量!$AC17 -> -0.34615385
A18: l | B18: =向量!B18-向量!B$29 -> -1.9230769 | C18: =向量!C18-向量!C$29 -> 4.0769231 | D18: =向量!D18-向量!D$29 -> -2.6538462 | E18: =向量!E18-向量!E$29 -> 2.4230769 | F18: =向量!F18-向量!F$29 -> 2.8076923 | G18: =向量!G18-向量!G$29 -> -2.8846154 | H18: =向量!H18-向量!H$29 -> 3.8846154 | I18: =向量!I18-向量!I$29 -> -1.4230769 | ... Q18: =向量!Q18-向量!Q$29 -> 2.9230769 | R18: 14 | S18: =向量!S18-向量!$AC18 -> 3.2307692 | T18: =向量!T18-向量!$AC18 -> 4.2307692 | U18: =向量!U18-向量!$AC18 -> -0.76923077 | V18: =向量!V18-向量!$AC18 -> -2.7692308 | W18: =向量!W18-向量!$AC18 -> -2.7692308 | X18: =向量!X18-向量!$AC18 -> -1.7692308 | Y18: =向量!Y18-向量!$AC18 -> -1.7692308 | Z18: =向量!Z18-向量!$AC18 -> 4.2307692 | AA18: =向量!AA18-向量!$AC18 -> -0.76923077
A19: m | B19: =向量!B19-向量!B$29 -> -1.9230769 | C19: =向量!C19-向量!C$29 -> 4.0769231 | D19: =向量!D19-向量!D$29 -> -2.6538462 | E19: =向量!E19-向量!E$29 -> 3.4230769 | F19: =向量!F19-向量!F$29 -> 4.8076923 | G19: =向量!G19-向量!G$29 -> -2.8846154 | H19: =向量!H19-向量!H$29 -> 2.8846154 | I19: =向量!I19-向量!I$29 -> -3.4230769 | ... R19: =向量!R19-向量!R$29 -> 2.1923077 | S19: 13 | T19: =向量!T19-向量!$AC19 -> 3.1538462 | U19: =向量!U19-向量!$AC19 -> -0.84615385 | V19: =向量!V19-向量!$AC19 -> -1.8461538 | W19: =向量!W19-向量!$AC19 -> -1.8461538 | X19: =向量!X19-向量!$AC19 -> -1.8461538 | Y19: =向量!Y19-向量!$AC19 -> -0.84615385 | Z19: =向量!Z19-向量!$AC19 -> 6.1538462 | AA19: =向量!AA19-向量!$AC19 -> -0.84615385
A20: p | B20: =向量!B20-向量!B$29 -> -2.9230769 | C20: =向量!C20-向量!C$29 -> 4.0769231 | D20: =向量!D20-向量!D$29 -> -2.6538462 | E20: =向量!E20-向量!E$29 -> 3.4230769 | F20: =向量!F20-向量!F$29 -> 1.8076923 | G20: =向量!G20-向量!G$29 -> -1.8846154 | H20: =向量!H20-向量!H$29 -> 4.8846154 | I20: =向量!I20-向量!I$29 -> -3.4230769 | ... S20: =向量!S20-向量!S$29 -> 3.3846154 | T20: 13 | U20: =向量!U20-向量!$AC20 -> -0.73076923 | V20: =向量!V20-向量!$AC20 -> -2.7307692 | W20: =向量!W20-向量!$AC20 -> -0.73076923 | X20: =向量!X20-向量!$AC20 -> -0.73076923 | Y20: =向量!Y20-向量!$AC20 -> -1.7307692 | Z20: =向量!Z20-向量!$AC20 -> 2.2692308 | AA20: =向量!AA20-向量!$AC20 -> -1.7307692
A21: q | B21: =向量!B21-向量!B$29 -> 5.0769231 | C21: =向量!C21-向量!C$29 -> -0.92307692 | D21: =向量!D21-向量!D$29 -> 3.3461538 | E21: =向量!E21-向量!E$29 -> -1.5769231 | F21: =向量!F21-向量!F$29 -> -1.1923077 | G21: =向量!G21-向量!G$29 -> 2.1153846 | H21: =向量!H21-向量!H$29 -> -2.1153846 | I21: =向量!I21-向量!I$29 -> 2.5769231 | ... T21: =向量!T21-向量!T$29 -> -0.076923077 | U21: 13 | V21: =向量!V21-向量!$AC21 -> 5.8846154 | W21: =向量!W21-向量!$AC21 -> 0.88461538 | X21: =向量!X21-向量!$AC21 -> 1.8846154 | Y21: =向量!Y21-向量!$AC21 -> 5.8846154 | Z21: =向量!Z21-向量!$AC21 -> -3.1153846 | AA21: =向量!AA21-向量!$AC21 -> 4.8846154
A22: s | B22: =向量!B22-向量!B$29 -> 2.0769231 | C22: =向量!C22-向量!C$29 -> -1.9230769 | D22: =向量!D22-向量!D$29 -> 1.3461538 | E22: =向量!E22-向量!E$29 -> -1.5769231 | F22: =向量!F22-向量!F$29 -> -2.1923077 | G22: =向量!G22-向量!G$29 -> 1.1153846 | H22: =向量!H22-向量!H$29 -> -2.1153846 | I22: =向量!I22-向量!I$29 -> 0.57692308 | ... U22: =向量!U22-向量!U$29 -> 2.2307692 | V22: 13 | W22: =向量!W22-向量!$AC22 -> 2.0384615 | X22: =向量!X22-向量!$AC22 -> 3.0384615 | Y22: =向量!Y22-向量!$AC22 -> 4.0384615 | Z22: =向量!Z22-向量!$AC22 -> -2.9615385 | AA22: =向量!AA22-向量!$AC22 -> 4.0384615
A23: t | B23: =向量!B23-向量!B$29 -> 1.0769231 | C23: =向量!C23-向量!C$29 -> -1.9230769 | D23: =向量!D23-向量!D$29 -> 0.34615385 | E23: =向量!E23-向量!E$29 -> -1.5769231 | F23: =向量!F23-向量!F$29 -> -1.1923077 | G23: =向量!G23-向量!G$29 -> 5.1153846 | H23: =向量!H23-向量!H$29 -> -2.1153846 | I23: =向量!I23-向量!I$29 -> 2.5769231 | ... V23: =向量!V23-向量!V$29 -> 0.76923077 | W23: 13 | X23: =向量!X23-向量!$AC23 -> 0.53846154 | Y23: =向量!Y23-向量!$AC23 -> 6.5384615 | Z23: =向量!Z23-向量!$AC23 -> -2.4615385 | AA23: =向量!AA23-向量!$AC23 -> 4.5384615
A24: w | B24: =向量!B24-向量!B$29 -> 4.0769231 | C24: =向量!C24-向量!C$29 -> -1.9230769 | D24: =向量!D24-向量!D$29 -> 1.3461538 | E24: =向量!E24-向量!E$29 -> -1.5769231 | F24: =向量!F24-向量!F$29 -> -1.1923077 | G24: =向量!G24-向量!G$29 -> 4.1153846 | H24: =向量!H24-向量!H$29 -> -2.1153846 | I24: =向量!I24-向量!I$29 -> 1.5769231 | ... W24: =向量!W24-向量!W$29 -> 0.42307692 | X24: 13 | Y24: =向量!Y24-向量!$AC24 -> 5.1923077 | Z24: =向量!Z24-向量!$AC24 -> -2.8076923 | AA24: =向量!AA24-向量!$AC24 -> 5.1923077
A25: x | B25: =向量!B25-向量!B$29 -> 3.0769231 | C25: =向量!C25-向量!C$29 -> -1.9230769 | D25: =向量!D25-向量!D$29 -> 4.3461538 | E25: =向量!E25-向量!E$29 -> -1.5769231 | F25: =向量!F25-向量!F$29 -> -2.1923077 | G25: =向量!G25-向量!G$29 -> 1.1153846 | H25: =向量!H25-向量!H$29 -> -2.1153846 | I25: =向量!I25-向量!I$29 -> 0.57692308 | ... X25: =向量!X25-向量!X$29 -> 4.6153846 | Y25: 13 | Z25: =向量!Z25-向量!$AC25 -> -2.1923077 | AA25: =向量!AA25-向量!$AC25 -> 2.8076923
A26: y | B26: =向量!B26-向量!B$29 -> -1.9230769 | C26: =向量!C26-向量!C$29 -> 2.0769231 | D26: =向量!D26-向量!D$29 -> -2.6538462 | E26: =向量!E26-向量!E$29 -> 1.4230769 | F26: =向量!F26-向量!F$29 -> 1.8076923 | G26: =向量!G26-向量!G$29 -> -1.8846154 | H26: =向量!H26-向量!H$29 -> 3.8846154 | I26: =向量!I26-向量!I$29 -> -3.4230769 | ... Y26: =向量!Y26-向量!Y$29 -> -0.53846154 | Z26: 13 | AA26: =向量!AA26-向量!$AC26 -> -0.65384615
A27: z | B27: =向量!B27-向量!B$29 -> 4.0769231 | C27: =向量!C27-向量!C$29 -> -0.92307692 | D27: =向量!D27-向量!D$29 -> 4.3461538 | E27: =向量!E27-向量!E$29 -> -1.5769231 | F27: =向量!F27-向量!F$29 -> -1.1923077 | G27: =向量!G27-向量!G$29 -> 0.11538462 | H27: =向量!H27-向量!H$29 -> -2.1153846 | I27: =向量!I27-向量!I$29 -> 2.5769231 | ... Z27: =向量!Z27-向量!Z$29 -> 0.038461538 | AA27: 13

Sheet 双拼
B1: a | C1: o | D1: e | E1: i | F1: u | G1: v | H1: n | I1: g | J1: r | K1: b | L1: c | M1: d | N1: f | O1: h | P1: j | Q1: k | R1: l | S1: m | T1: p | U1: q | V1: s | W1: t | X1: w | Y1: x | Z1: y | AA1: z | AB1: =SUM(AB2:AB27) -> 9426 | AC1: =AVERAGE(AC2:AC27) -> 13.943787
A2: a | B2: 13 | C2: 11 | D2: 15 | E2: 11 | F2: 12 | G2: 15 | H2: 11 | I2: 15 | J2: 17 | K2: 18 | L2: 17 | M2: 15 | N2: 15 | O2: 11 | P2: 11 | Q2: 10 | R2: 10 | S2: 11 | T2: 12 | U2: 19 | V2: 16 | W2: 15 | X2: 18 | Y2: 19 | Z2: 12 | AA2: 19 | AB2: =SUM(B2:AA2) -> 368 | AC2: =AB2/26 -> 14.153846
A3: o | B3: 11 | C3: 14 | D3: 11 | E3: 15 | F3: 13 | G3: 13 | H3: 15 | I3: 11 | J3: 12 | K3: 11 | L3: 12 | M3: 11 | N3: 11 | O3: 14 | P3: 15 | Q3: 18 | R3: 17 | S3: 17 | T3: 15 | U3: 13 | V3: 11 | W3: 11 | X3: 11 | Y3: 12 | Z3: 15 | AA3: 13 | AB3: =SUM(B3:AA3) -> 342 | AC3: =AB3/26 -> 13.153846
A4: e | B4: 15 | C4: 10 | D4: 13 | E4: 11 | F4: 11 | G4: 17 | H4: 11 | I4: 16 | J4: 13 | K4: 18 | L4: 19 | M4: 18 | N4: 15 | O4: 11 | P4: 10 | Q4: 10 | R4: 11 | S4: 11 | T4: 12 | U4: 14 | V4: 17 | W4: 16 | X4: 14 | Y4: 20 | Z4: 12 | AA4: 18 | AB4: =SUM(B4:AA4) -> 363 | AC4: =AB4/26 -> 13.961538
A5: i | B5: 12 | C5: 14 | D5: 11 | E5: 13 | F5: 14 | G5: 12 | H5: 15 | I5: 12 | J5: 11 | K5: 12 | L5: 12 | M5: 11 | N5: 11 | O5: 17 | P5: 15 | Q5: 16 | R5: 16 | S5: 17 | T5: 15 | U5: 12 | V5: 11 | W5: 11 | X5: 11 | Y5: 12 | Z5: 16 | AA5: 13 | AB5: =SUM(B5:AA5) -> 342 | AC5: =AB5/26 -> 13.153846
A6: u | B6: 11 | C6: 14 | D6: 11 | E6: 14 | F6: 13 | G6: 12 | H6: 17 | I6: 11 | J6: 11 | K6: 11 | L6: 11 | M6: 11 | N6: 11 | O6: 16 | P6: 16 | Q6: 17 | R6: 16 | S6: 18 | T6: 13 | U6: 11 | V6: 12 | W6: 13 | X6: 12 | Y6: 12 | Z6: 15 | AA6: 13 | AB6: =SUM(B6:AA6) -> 342 | AC6: =AB6/26 -> 13.153846
A7: v | B7: 15 | C7: 12 | D7: 16 | E7: 11 | F7: 14 | G7: 13 | H7: 12 | I7: 18 | J7: 19 | K7: 18 | L7: 16 | M7: 16 | N7: 17 | O7: 11 | P7: 11 | Q7: 11 | R7: 12 | S7: 11 | T7: 13 | U7: 17 | V7: 15 | W7: 19 | X7: 15 | Y7: 15 | Z7: 13 | AA7: 14 | AB7: =SUM(B7:AA7) -> 374 | AC7: =AB7/26 -> 14.384615 | AD7: =SUM(AD8:AD27) -> 7295 | AE7: 出度当量
A8: n | B8: 12 | C8: 15 | D8: 11 | E8: 15 | F8: 17 | G8: 12 | H8: 13 | I8: 12 | J8: 11 | K8: 12 | L8: 12 | M8: 11 | N8: 12 | O8: 17 | P8: 16 | Q8: 16 | R8: 15 | S8: 17 | T8: 16 | U8: 13 | V8: 12 | W8: 11 | X8: 11 | Y8: 13 | Z8: 18 | AA8: 13 | AB8: =SUM(B8:AA8) -> 353 | AC8: =AB8/26 -> 13.576923 | AD8: =SUM(B8:AA8) -> 353 | AE8: =AD8/26 -> 13.576923
A9: g | B9: 14 | C9: 11 | D9: 14 | E9: 11 | F9: 11 | G9: 18 | H9: 11 | I9: 13 | J9: 18 | K9: 18 | L9: 18 | M9: 15 | N9: 16 | O9: 12 | P9: 11 | Q9: 11 | R9: 11 | S9: 11 | T9: 11 | U9: 14 | V9: 15 | W9: 17 | X9: 15 | Y9: 17 | Z9: 11 | AA9: 16 | AB9: =SUM(B9:AA9) -> 360 | AC9: =AB9/26 -> 13.846154 | AD9: =SUM(B9:AA9) -> 360 | AE9: =AD9/26 -> 13.846154
A10: r | B10: 15 | C10: 12 | D10: 14 | E10: 11 | F10: 11 | G10: 19 | H10: 11 | I10: 17 | J10: 13 | K10: 19 | L10: 20 | M10: 17 | N10: 17 | O10: 11 | P10: 11 | Q10: 12 | R10: 11 | S10: 12 | T10: 12 | U10: 15 | V10: 17 | W10: 17 | X10: 15 | Y10: 20 | Z10: 12 | AA10: 20 | AB10: =SUM(B10:AA10) -> 381 | AC10: =AB10/26 -> 14.653846 | AD10: =SUM(B10:AA10) -> 381 | AE10: =AD10/26 -> 14.653846
A11: b | B11: 16 | C11: 11 | D11: 17 | E11: 11 | F11: 12 | G11: 18 | H11: 11 | I11: 18 | J11: 19 | K11: 13 | L11: 17 | M11: 16 | N11: 19 | O11: 12 | P11: 12 | Q11: 12 | R11: 11 | S11: 11 | T11: 11 | U11: 18 | V11: 17 | W11: 19 | X11: 18 | Y11: 17 | Z11: 13 | AA11: 16 | AB11: =SUM(B11:AA11) -> 385 | AC11: =AB11/26 -> 14.807692 | AD11: =SUM(B11:AA11) -> 385 | AE11: =AD11/26 -> 14.807692
A12: c | B12: 16 | C12: 11 | D12: 18 | E12: 11 | F12: 11 | G12: 15 | H12: 10 | I12: 17 | J12: 19 | K12: 16 | L12: 13 | M12: 17 | N12: 17 | O12: 11 | P12: 11 | Q12: 10 | R12: 10 | S12: 11 | T12: 11 | U12: 18 | V12: 16 | W12: 19 | X12: 18 | Y12: 16 | Z12: 12 | AA12: 14 | AB12: =SUM(B12:AA12) -> 368 | AC12: =AB12/26 -> 14.153846 | AD12: =SUM(B12:AA12) -> 368 | AE12: =AD12/26 -> 14.153846
A13: d | B13: 14 | C13: 11 | D13: 16 | E13: 10 | F13: 11 | G13: 16 | H13: 11 | I13: 15 | J13: 17 | K13: 17 | L13: 19 | M13: 13 | N13: 15 | O13: 11 | P13: 11 | Q13: 11 | R13: 11 | S13: 11 | T13: 11 | U13: 16 | V13: 14 | W13: 17 | X13: 16 | Y13: 17 | Z13: 12 | AA13: 15 | AB13: =SUM(B13:AA13) -> 358 | AC13: =AB13/26 -> 13.769231 | AD13: =SUM(B13:AA13) -> 358 | AE13: =AD13/26 -> 13.769231
A14: f | B14: 13 | C14: 11 | D14: 14 | E14: 12 | F14: 12 | G14: 18 | H14: 11 | I14: 18 | J14: 17 | K14: 18 | L14: 18 | M14: 15 | N14: 13 | O14: 11 | P14: 11 | Q14: 11 | R14: 11 | S14: 12 | T14: 11 | U14: 15 | V14: 15 | W14: 17 | X14: 14 | Y14: 17 | Z14: 12 | AA14: 16 | AB14: =SUM(B14:AA14) -> 363 | AC14: =AB14/26 -> 13.961538 | AD14: =SUM(B14:AA14) -> 363 | AE14: =AD14/26 -> 13.961538
A15: h | B15: 12 | C15: 14 | D15: 11 | E15: 13 | F15: 15 | G15: 12 | H15: 16 | I15: 15 | J15: 11 | K15: 12 | L15: 12 | M15: 11 | N15: 12 | O15: 13 | P15: 16 | Q15: 15 | R15: 14 | S15: 18 | T15: 14 | U15: 12 | V15: 11 | W15: 11 | X15: 11 | Y15: 12 | Z15: 15 | AA15: 12 | AB15: =SUM(B15:AA15) -> 340 | AC15: =AB15/26 -> 13.076923 | AD15: =SUM(B15:AA15) -> 340 | AE15: =AD15/26 -> 13.076923
A16: j | B16: 11 | C16: 15 | D16: 11 | E16: 15 | F16: 16 | G16: 12 | H16: 16 | I16: 12 | J16: 11 | K16: 12 | L16: 11 | M16: 11 | N16: 12 | O16: 16 | P16: 13 | Q16: 13 | R16: 14 | S16: 18 | T16: 14 | U16: 13 | V16: 12 | W16: 11 | X16: 12 | Y16: 12 | Z16: 18 | AA16: 13 | AB16: =SUM(B16:AA16) -> 344 | AC16: =AB16/26 -> 13.230769 | AD16: =SUM(B16:AA16) -> 344 | AE16: =AD16/26 -> 13.230769
A17: k | B17: 12 | C17: 16 | D17: 11 | E17: 16 | F17: 16 | G17: 12 | H17: 16 | I17: 12 | J17: 11 | K17: 11 | L17: 12 | M17: 11 | N17: 12 | O17: 16 | P17: 15 | Q17: 13 | R17: 13 | S17: 16 | T17: 18 | U17: 12 | V17: 11 | W17: 11 | X17: 11 | Y17: 13 | Z17: 17 | AA17: 13 | AB17: =SUM(B17:AA17) -> 347 | AC17: =AB17/26 -> 13.346154 | AD17: =SUM(B17:AA17) -> 347 | AE17: =AD17/26 -> 13.346154
A18: l | B18: 12 | C18: 17 | D18: 11 | E18: 15 | F18: 16 | G18: 12 | H18: 17 | I18: 13 | J18: 11 | K18: 12 | L18: 12 | M18: 11 | N18: 11 | O18: 17 | P18: 16 | Q18: 16 | R18: 14 | S18: 17 | T18: 18 | U18: 13 | V18: 11 | W18: 11 | X18: 12 | Y18: 12 | Z18: 18 | AA18: 13 | AB18: =SUM(B18:AA18) -> 358 | AC18: =AB18/26 -> 13.769231 | AD18: =SUM(B18:AA18) -> 358 | AE18: =AD18/26 -> 13.769231
A19: m | B19: 12 | C19: 17 | D19: 11 | E19: 16 | F19: 18 | G19: 12 | H19: 16 | I19: 11 | J19: 11 | K19: 11 | L19: 12 | M19: 11 | N19: 12 | O19: 18 | P19: 16 | Q19: 16 | R19: 15 | S19: 13 | T19: 17 | U19: 13 | V19: 12 | W19: 12 | X19: 12 | Y19: 13 | Z19: 20 | AA19: 13 | AB19: =SUM(B19:AA19) -> 360 | AC19: =AB19/26 -> 13.846154 | AD19: =SUM(B19:AA19) -> 360 | AE19: =AD19/26 -> 13.846154
... A27: z | B27: 18 | C27: 12 | D27: 18 | E27: 11 | F27: 12 | G27: 15 | H27: 11 | I27: 17 | J27: 18 | K27: 15 | L27: 16 | M27: 17 | N27: 17 | O27: 10 | P27: 10 | Q27: 11 | R27: 11 | S27: 10 | T27: 11 | U27: 21 | V27: 19 | W27: 17 | X27: 21 | Y27: 15 | Z27: 14 | AA27: 13 | AB27: =SUM(B27:AA27) -> 380 | AC27: =AB27/26 -> 14.615385 | AD27: =SUM(B27:AA27) -> 380 | AE27: =AD27/26 -> 14.615385
A28: =SUM(B28:AA28) -> 9426 | B28: =SUM(B2:B27) -> 362 | C28: =SUM(C2:C27) -> 336 | D28: =SUM(D2:D27) -> 355 | E28: =SUM(E2:E27) -> 327 | F28: =SUM(F2:F27) -> 343 | G28: =SUM(G2:G27) -> 387 | H28: =SUM(H2:H27) -> 341 | I28: =SUM(I2:I27) -> 375 | ... AA28: =SUM(AA2:AA27) -> 396 | AE28: =AVERAGE(AE8:AE27) -> 14.028846
A29: =AVERAGE(B29:AA29) -> 13.943787 | B29: =B28/26 -> 13.923077 | C29: =C28/26 -> 12.923077 | D29: =D28/26 -> 13.653846 | E29: =E28/26 -> 12.576923 | F29: =F28/26 -> 13.192308 | G29: =G28/26 -> 14.884615 | H29: =H28/26 -> 13.115385 | I29: =I28/26 -> 14.423077 | ... AA29: =AA28/26 -> 15.230769 | AE29: 汉字当量
G30: =SUM(H30:AA30) -> 7316 | H30: =SUM(H2:H27) -> 341 | I30: =SUM(I2:I27) -> 375 | J30: =SUM(J2:J27) -> 373 | K30: =SUM(K2:K27) -> 385 | L30: =SUM(L2:L27) -> 396 | M30: =SUM(M2:M27) -> 365 | N30: =SUM(N2:N27) -> 367 | O30: =SUM(O2:O27) -> 342 | ... AA30: =SUM(AA2:AA27) -> 396
G31: 入度当量 | H31: =H30/26 -> 13.115385 | I31: =I30/26 -> 14.423077 | J31: =J30/26 -> 14.346154 | K31: =K30/26 -> 14.807692 | L31: =L30/26 -> 15.230769 | M31: =M30/26 -> 14.038462 | N31: =N30/26 -> 14.115385 | O31: =O30/26 -> 13.153846 | ... AA31: =AA30/26 -> 15.230769 | AB31: =AVERAGE(H31:AA31) -> 14.069231 | AC31: 连续当量

Sheet 全拼
B1: a | C1: o | D1: e | E1: i | F1: u | G1: v | H1: n | I1: g | J1: r | K1: b | L1: c | M1: d | N1: f | O1: h | P1: j | Q1: k | R1: l | S1: m | T1: p | U1: q | V1: s | W1: t | X1: w | Y1: x | Z1: y | AA1: z | AB1: =SUM(AB2:AB27) -> 9426 | AC1: =AVERAGE(AC2:AC27) -> 13.943787 | AD1: =SUM(AD2:AD7) -> 2131 | AE1: 出度当量
A2: a | B2: 13 | C2: 11 | D2: 15 | E2: 11 | F2: 12 | G2: 15 | H2: 11 | I2: 15 | J2: 17 | K2: 18 | L2: 17 | M2: 15 | N2: 15 | O2: 11 | P2: 11 | Q2: 10 | R2: 10 | S2: 11 | T2: 12 | U2: 19 | V2: 16 | W2: 15 | X2: 18 | Y2: 19 | Z2: 12 | AA2: 19 | AB2: =SUM(B2:AA2) -> 368 | AC2: =AB2/26 -> 14.153846 | AD2: =SUM(B2:AA2) -> 368 | AE2: =AD2/26 -> 14.153846
A3: o | B3: 11 | C3: 14 | D3: 11 | E3: 15 | F3: 13 | G3: 13 | H3: 15 | I3: 11 | J3: 12 | K3: 11 | L3: 12 | M3: 11 | N3: 11 | O3: 14 | P3: 15 | Q3: 18 | R3: 17 | S3: 17 | T3: 15 | U3: 13 | V3: 11 | W3: 11 | X3: 11 | Y3: 12 | Z3: 15 | AA3: 13 | AB3: =SUM(B3:AA3) -> 342 | AC3: =AB3/26 -> 13.153846 | AD3: =SUM(B3:AA3) -> 342 | AE3: =AD3/26 -> 13.153846
A4: e | B4: 15 | C4: 10 | D4: 13 | E4: 11 | F4: 11 | G4: 17 | H4: 11 | I4: 16 | J4: 13 | K4: 18 | L4: 19 | M4: 18 | N4: 15 | O4: 11 | P4: 10 | Q4: 10 | R4: 11 | S4: 11 | T4: 12 | U4: 14 | V4: 17 | W4: 16 | X4: 14 | Y4: 20 | Z4: 12 | AA4: 18 | AB4: =SUM(B4:AA4) -> 363 | AC4: =AB4/26 -> 13.961538 | AD4: =SUM(B4:AA4) -> 363 | AE4: =AD4/26 -> 13.961538
A5: i | B5: 12 | C5: 14 | D5: 11 | E5: 13 | F5: 14 | G5: 12 | H5: 15 | I5: 12 | J5: 11 | K5: 12 | L5: 12 | M5: 11 | N5: 11 | O5: 17 | P5: 15 | Q5: 16 | R5: 16 | S5: 17 | T5: 15 | U5: 12 | V5: 11 | W5: 11 | X5: 11 | Y5: 12 | Z5: 16 | AA5: 13 | AB5: =SUM(B5:AA5) -> 342 | AC5: =AB5/26 -> 13.153846 | AD5: =SUM(B5:AA5) -> 342 | AE5: =AD5/26 -> 13.153846
A6: u | B6: 11 | C6: 14 | D6: 11 | E6: 14 | F6: 13 | G6: 12 | H6: 17 | I6: 11 | J6: 11 | K6: 11 | L6: 11 | M6: 11 | N6: 11 | O6: 16 | P6: 16 | Q6: 17 | R6: 16 | S6: 18 | T6: 13 | U6: 11 | V6: 12 | W6: 13 | X6: 12 | Y6: 12 | Z6: 15 | AA6: 13 | AB6: =SUM(B6:AA6) -> 342 | AC6: =AB6/26 -> 13.153846 | AD6: =SUM(B6:AA6) -> 342 | AE6: =AD6/26 -> 13.153846
A7: v | B7: 15 | C7: 12 | D7: 16 | E7: 11 | F7: 14 | G7: 13 | H7: 12 | I7: 18 | J7: 19 | K7: 18 | L7: 16 | M7: 16 | N7: 17 | O7: 11 | P7: 11 | Q7: 11 | R7: 12 | S7: 11 | T7: 13 | U7: 17 | V7: 15 | W7: 19 | X7: 15 | Y7: 15 | Z7: 13 | AA7: 14 | AB7: =SUM(B7:AA7) -> 374 | AC7: =AB7/26 -> 14.384615 | AD7: =SUM(B7:AA7) -> 374 | AE7: =AD7/26 -> 14.384615
A8: n | B8: 12 | C8: 15 | D8: 11 | E8: 15 | F8: 17 | G8: 12 | H8: 13 | I8: 12 | J8: 11 | K8: 12 | L8: 12 | M8: 11 | N8: 12 | O8: 17 | P8: 16 | Q8: 16 | R8: 15 | S8: 17 | T8: 16 | U8: 13 | V8: 12 | W8: 11 | X8: 11 | Y8: 13 | Z8: 18 | AA8: 13 | AB8: =SUM(B8:AA8) -> 353 | AC8: =AB8/26 -> 13.576923 | AE8: =AVERAGE(AE2:AE7) -> 13.660256
A9: g | B9: 14 | C9: 11 | D9: 14 | E9: 11 | F9: 11 | G9: 18 | H9: 11 | I9: 13 | J9: 18 | K9: 18 | L9: 18 | M9: 15 | N9: 16 | O9: 12 | P9: 11 | Q9: 11 | R9: 11 | S9: 11 | T9: 11 | U9: 14 | V9: 15 | W9: 17 | X9: 15 | Y9: 17 | Z9: 11 | AA9: 16 | AB9: =SUM(B9:AA9) -> 360 | AC9: =AB9/26 -> 13.846154 | AE9: 连续当量
A10: r | B10: 15 | C10: 12 | D10: 14 | E10: 11 | F10: 11 | G10: 19 | H10: 11 | I10: 17 | J10: 13 | K10: 19 | L10: 20 | M10: 17 | N10: 17 | O10: 11 | P10: 11 | Q10: 12 | R10: 11 | S10: 12 | T10: 12 | U10: 15 | V10: 17 | W10: 17 | X10: 15 | Y10: 20 | Z10: 12 | AA10: 20 | AB10: =SUM(B10:AA10) -> 381 | AC10: =AB10/26 -> 14.653846
A11: b | B11: 16 | C11: 11 | D11: 17 | E11: 11 | F11: 12 | G11: 18 | H11: 11 | I11: 18 | J11: 19 | K11: 13 | L11: 17 | M11: 16 | N11: 19 | O11: 12 | P11: 12 | Q11: 12 | R11: 11 | S11: 11 | T11: 11 | U11: 18 | V11: 17 | W11: 19 | X11: 18 | Y11: 17 | Z11: 13 | AA11: 16 | AB11: =SUM(B11:AA11) -> 385 | AC11: =AB11/26 -> 14.807692
A12: c | B12: 16 | C12: 11 | D12: 18 | E12: 11 | F12: 11 | G12: 15 | H12: 10 | I12: 17 | J12: 19 | K12: 16 | L12: 13 | M12: 17 | N12: 17 | O12: 11 | P12: 11 | Q12: 10 | R12: 10 | S12: 11 | T12: 11 | U12: 18 | V12: 16 | W12: 19 | X12: 18 | Y12: 16 | Z12: 12 | AA12: 14 | AB12: =SUM(B12:AA12) -> 368 | AC12: =AB12/26 -> 14.153846
A13: d | B13: 14 | C13: 11 | D13: 16 | E13: 10 | F13: 11 | G13: 16 | H13: 11 | I13: 15 | J13: 17 | K13: 17 | L13: 19 | M13: 13 | N13: 15 | O13: 11 | P13: 11 | Q13: 11 | R13: 11 | S13: 11 | T13: 11 | U13: 16 | V13: 14 | W13: 17 | X13: 16 | Y13: 17 | Z13: 12 | AA13: 15 | AB13: =SUM(B13:AA13) -> 358 | AC13: =AB13/26 -> 13.769231
A14: f | B14: 13 | C14: 11 | D14: 14 | E14: 12 | F14: 12 | G14: 18 | H14: 11 | I14: 18 | J14: 17 | K14: 18 | L14: 18 | M14: 15 | N14: 13 | O14: 11 | P14: 11 | Q14: 11 | R14: 11 | S14: 12 | T14: 11 | U14: 15 | V14: 15 | W14: 17 | X14: 14 | Y14: 17 | Z14: 12 | AA14: 16 | AB14: =SUM(B14:AA14) -> 363 | AC14: =AB14/26 -> 13.961538
A15: h | B15: 12 | C15: 14 | D15: 11 | E15: 13 | F15: 15 | G15: 12 | H15: 16 | I15: 15 | J15: 11 | K15: 12 | L15: 12 | M15: 11 | N15: 12 | O15: 13 | P15: 16 | Q15: 15 | R15: 14 | S15: 18 | T15: 14 | U15: 12 | V15: 11 | W15: 11 | X15: 11 | Y15: 12 | Z15: 15 | AA15: 12 | AB15: =SUM(B15:AA15) -> 340 | AC15: =AB15/26 -> 13.076923
A16: j | B16: 11 | C16: 15 | D16: 11 | E16: 15 | F16: 16 | G16: 12 | H16: 16 | I16: 12 | J16: 11 | K16: 12 | L16: 11 | M16: 11 | N16: 12 | O16: 16 | P16: 13 | Q16: 13 | R16: 14 | S16: 18 | T16: 14 | U16: 13 | V16: 12 | W16: 11 | X16: 12 | Y16: 12 | Z16: 18 | AA16: 13 | AB16: =SUM(B16:AA16) -> 344 | AC16: =AB16/26 -> 13.230769
A17: k | B17: 12 | C17: 16 | D17: 11 | E17: 16 | F17: 16 | G17: 12 | H17: 16 | I17: 12 | J17: 11 | K17: 11 | L17: 12 | M17: 11 | N17: 12 | O17: 16 | P17: 15 | Q17: 13 | R17: 13 | S17: 16 | T17: 18 | U17: 12 | V17: 11 | W17: 11 | X17: 11 | Y17: 13 | Z17: 17 | AA17: 13 | AB17: =SUM(B17:AA17) -> 347 | AC17: =AB17/26 -> 13.346154
A18: l | B18: 12 | C18: 17 | D18: 11 | E18: 15 | F18: 16 | G18: 12 | H18: 17 | I18: 13 | J18: 11 | K18: 12 | L18: 12 | M18: 11 | N18: 11 | O18: 17 | P18: 16 | Q18: 16 | R18: 14 | S18: 17 | T18: 18 | U18: 13 | V18: 11 | W18: 11 | X18: 12 | Y18: 12 | Z18: 18 | AA18: 13 | AB18: =SUM(B18:AA18) -> 358 | AC18: =AB18/26 -> 13.769231
A19: m | B19: 12 | C19: 17 | D19: 11 | E19: 16 | F19: 18 | G19: 12 | H19: 16 | I19: 11 | J19: 11 | K19: 11 | L19: 12 | M19: 11 | N19: 12 | O19: 18 | P19: 16 | Q19: 16 | R19: 15 | S19: 13 | T19: 17 | U19: 13 | V19: 12 | W19: 12 | X19: 12 | Y19: 13 | Z19: 20 | AA19: 13 | AB19: =SUM(B19:AA19) -> 360 | AC19: =AB19/26 -> 13.846154
A20: p | B20: 11 | C20: 17 | D20: 11 | E20: 16 | F20: 15 | G20: 13 | H20: 18 | I20: 11 | J20: 12 | K20: 11 | L20: 11 | M20: 11 | N20: 10 | O20: 16 | P20: 16 | Q20: 19 | R20: 19 | S20: 17 | T20: 13 | U20: 13 | V20: 11 | W20: 13 | X20: 13 | Y20: 12 | Z20: 16 | AA20: 12 | AB20: =SUM(B20:AA20) -> 357 | AC20: =AB20/26 -> 13.730769
A21: q | B21: 19 | C21: 12 | D21: 17 | E21: 11 | F21: 12 | G21: 17 | H21: 11 | I21: 17 | J21: 14 | K21: 19 | L21: 21 | M21: 19 | N21: 16 | O21: 11 | P21: 11 | Q21: 11 | R21: 11 | S21: 11 | T21: 13 | U21: 13 | V21: 21 | W21: 16 | X21: 17 | Y21: 21 | Z21: 12 | AA21: 20 | AB21: =SUM(B21:AA21) -> 393 | AC21: =AB21/26 -> 15.115385
... A27: z | B27: 18 | C27: 12 | D27: 18 | E27: 11 | F27: 12 | G27: 15 | H27: 11 | I27: 17 | J27: 18 | K27: 15 | L27: 16 | M27: 17 | N27: 17 | O27: 10 | P27: 10 | Q27: 11 | R27: 11 | S27: 10 | T27: 11 | U27: 21 | V27: 19 | W27: 17 | X27: 21 | Y27: 15 | Z27: 14 | AA27: 13 | AB27: =SUM(B27:AA27) -> 380 | AC27: =AB27/26 -> 14.615385
A28: =SUM(B28:AA28) -> 9426 | B28: =SUM(B2:B27) -> 362 | C28: =SUM(C2:C27) -> 336 | D28: =SUM(D2:D27) -> 355 | E28: =SUM(E2:E27) -> 327 | F28: =SUM(F2:F27) -> 343 | G28: =SUM(G2:G27) -> 387 | H28: =SUM(H2:H27) -> 341 | I28: =SUM(I2:I27) -> 375 | ... AA28: =SUM(AA2:AA27) -> 396
A29: =AVERAGE(B29:AA29) -> 13.943787 | B29: =B28/26 -> 13.923077 | C29: =C28/26 -> 12.923077 | D29: =D28/26 -> 13.653846 | E29: =E28/26 -> 12.576923 | F29: =F28/26 -> 13.192308 | G29: =G28/26 -> 14.884615 | H29: =H28/26 -> 13.115385 | I29: =I28/26 -> 14.423077 | ... AA29: =AA28/26 -> 15.230769
A30: =SUM(B30:G30) -> 2110 | B30: =SUM(B2:B27) -> 362 | C30: =SUM(C2:C27) -> 336 | D30: =SUM(D2:D27) -> 355 | E30: =SUM(E2:E27) -> 327 | F30: =SUM(F2:F27) -> 343 | G30: =SUM(G2:G27) -> 387
A31: 入度当量 | B31: =B30/26 -> 13.923077 | C31: =C30/26 -> 12.923077 | D31: =D30/26 -> 13.653846 | E31: =E30/26 -> 12.576923 | F31: =F30/26 -> 13.192308 | G31: =G30/26 -> 14.884615 | H31: =AVERAGE(B31:G31) -> 13.525641 | I31: 汉字当量
